BEGIN:VCALENDAR
VERSION:2.0
PRODID:www.stappen-shoppen.nl
BEGIN:VEVENT
UID:stappen-shoppen.nl/entity/69dd539425ae9d8d760a1b6f
DTSTAMP:20260419T135313Z
ORGANIZER;CN=:MAILTO:
DTSTART:20260413T202900Z
DTEND:20260510T202900Z
URL:https://m.dordrechtcityapp.nl/ical/69dd539425ae9d8d760a1b6f
SUMMARY:Meet your greens & Susan Hijink
DESCRIPTION:Duo expositie met groenten in de hoofdrol — zo gewoon en aards en toch zo bijzonder.
END:VEVENT
END:VCALENDAR

