BEGIN:VCALENDAR
VERSION:2.0
PRODID:www.stappen-shoppen.nl
BEGIN:VEVENT
UID:stappen-shoppen.nl/entity/69dd5950c5907feda90f562b
DTSTAMP:20260419T135314Z
ORGANIZER;CN=:MAILTO:
DTSTART:20260427T070000Z
DTEND:20260427T210000Z
URL:https://m.dordrechtcityapp.nl/ical/69dd5950c5907feda90f562b
SUMMARY:Koningsdag Dordrecht
DESCRIPTION:Er is weer een feestelijk programma samengesteld voor jong en oud
END:VEVENT
END:VCALENDAR

